BEGIN:VCALENDAR
VERSION:2.0
PRODID:-//Live Well Be Well - ECPv6.15.12.2//NONSGML v1.0//EN
CALSCALE:GREGORIAN
METHOD:PUBLISH
X-ORIGINAL-URL:https://livewellbewellnvly.org
X-WR-CALDESC:Events for Live Well Be Well
REFRESH-INTERVAL;VALUE=DURATION:PT1H
X-Robots-Tag:noindex
X-PUBLISHED-TTL:PT1H
BEGIN:VTIMEZONE
TZID:America/Los_Angeles
BEGIN:DAYLIGHT
TZOFFSETFROM:-0800
TZOFFSETTO:-0700
TZNAME:PDT
DTSTART:20230312T100000
END:DAYLIGHT
BEGIN:STANDARD
TZOFFSETFROM:-0700
TZOFFSETTO:-0800
TZNAME:PST
DTSTART:20231105T090000
END:STANDARD
BEGIN:DAYLIGHT
TZOFFSETFROM:-0800
TZOFFSETTO:-0700
TZNAME:PDT
DTSTART:20240310T100000
END:DAYLIGHT
BEGIN:STANDARD
TZOFFSETFROM:-0700
TZOFFSETTO:-0800
TZNAME:PST
DTSTART:20241103T090000
END:STANDARD
BEGIN:DAYLIGHT
TZOFFSETFROM:-0800
TZOFFSETTO:-0700
TZNAME:PDT
DTSTART:20250309T100000
END:DAYLIGHT
BEGIN:STANDARD
TZOFFSETFROM:-0700
TZOFFSETTO:-0800
TZNAME:PST
DTSTART:20251102T090000
END:STANDARD
END:VTIMEZONE
BEGIN:VEVENT
DTSTART;TZID=America/Los_Angeles:20240724T110000
DTEND;TZID=America/Los_Angeles:20240724T113000
DTSTAMP:20260420T041106
CREATED:20240627T183145Z
LAST-MODIFIED:20240627T183145Z
UID:10000061-1721818800-1721820600@livewellbewellnvly.org
SUMMARY:Financial Class Debt Free Education Part 2
DESCRIPTION:Join Dr. Roz on July 23 and July 25 from 11-11:30am via Zoom. \nTakeaways: \n\nSavvy saving tips to scholarship strategies\nGRIT (Grants/Scholarships. Return on Investment\, Interconnection and Triangle Approach)\nDebtFreeDegree Beloveds\n\nRegister here for the 2-part series. \n\n\n                    \n                        \n                        \n                    \n\n        \n        Write a gratitude message for a coworker or something you are grateful for and hang it on your facility gratitude tree. Our team will share wellness and fitness resources to help you take care of your well-being and THRIVE in the workplace. Date: Wednesday\, 4/29/26 Location: Arden Annex\, Lobby Time: 12:00 – 1:30pm
URL:https://livewellbewellnvly.org/events/financial-class-debt-free-education-part-2/
LOCATION:CA\, United States
ATTACH;FMTTYPE=image/jpeg:https://livewellbewellnvly.org/wp-content/uploads/2021/05/Investing-for-your-future.jpg
ORGANIZER;CN="live well be well":MAILTO:livewellbewell.nvly@kp.org
END:VEVENT
BEGIN:VEVENT
DTSTART;TZID=America/Los_Angeles:20240723T110000
DTEND;TZID=America/Los_Angeles:20240723T113000
DTSTAMP:20260420T041106
CREATED:20240627T183027Z
LAST-MODIFIED:20240627T183443Z
UID:10000056-1721732400-1721734200@livewellbewellnvly.org
SUMMARY:Financial Class Debt Free Education Part 1
DESCRIPTION:Join Dr. Roz on July 23 and July 25 from 11-11:30am via Zoom. \nTakeaways: \n\nSavvy saving tips to scholarship strategies\nGRIT (Grants/Scholarships. Return on Investment\, Interconnection and Triangle Approach)\nDebtFreeDegree Beloveds\n\nRegister here for the 2-part series. \n\n\n                    \n                        \n                        \n                    \n\n        \n        Write a gratitude message for a coworker or something you are grateful for and hang it on your facility gratitude tree. Our team will share wellness and fitness resources to help you take care of your well-being and THRIVE in the workplace. Date: Wednesday\, 4/29/26 Location: Arden Annex\, Lobby Time: 12:00 – 1:30pm
URL:https://livewellbewellnvly.org/events/financial-class-debt-free-education-part-1/
LOCATION:CA\, United States
ATTACH;FMTTYPE=image/jpeg:https://livewellbewellnvly.org/wp-content/uploads/2021/05/Investing-for-your-future.jpg
ORGANIZER;CN="live well be well":MAILTO:livewellbewell.nvly@kp.org
END:VEVENT
BEGIN:VEVENT
DTSTART;TZID=America/Los_Angeles:20240717T123000
DTEND;TZID=America/Los_Angeles:20240717T130000
DTSTAMP:20260420T041106
CREATED:20240711T205632Z
LAST-MODIFIED:20240711T211754Z
UID:10000059-1721219400-1721221200@livewellbewellnvly.org
SUMMARY:Wellness Wednesday Virtual Class: Mindful Stretching
DESCRIPTION:Enjoy your lunch while you join us for a 30-minute virtual wellness session on topics\ndedicated to supporting your health and wellness! \nOur goal: A casual drop in session for a monthly dash of self-care. We will strategize\nsmall habits that can lend to feeling your best because we care about your\nwellbeing!\n• 3rd Wednesday of each month\n• On TEAMs 12:30-1:00p \nClick Here to Join Meeting \nJoin Us For the Following 30 minute Drop-In Wellness Classes:\n• Mindful Stretching—July 17\n• Develop Mental Focus—August 21\n• The Power of Gratitude—September 18\n• Becoming Physically Fit— October 16 \n\n\n                    \n                        \n                        \n                    \n\n        \n        Write a gratitude message for a coworker or something you are grateful for and hang it on your facility gratitude tree. Our team will share wellness and fitness resources to help you take care of your well-being and THRIVE in the workplace. Date: Wednesday\, 4/29/26 Location: Arden Annex\, Lobby Time: 12:00 – 1:30pm
URL:https://livewellbewellnvly.org/events/wellness-wednesday-virtual-class-mindful-stretching/
LOCATION:Online (KP Teams)\, CA\, United States
ATTACH;FMTTYPE=image/jpeg:https://livewellbewellnvly.org/wp-content/uploads/2024/07/Wednesday-Virtual-Classes.jpg
ORGANIZER;CN="live well be well":MAILTO:livewellbewell.nvly@kp.org
END:VEVENT
BEGIN:VEVENT
DTSTART;TZID=America/Los_Angeles:20240602T080000
DTEND;TZID=America/Los_Angeles:20240602T170000
DTSTAMP:20260420T041106
CREATED:20240104T165942Z
LAST-MODIFIED:20240104T165942Z
UID:10000078-1717315200-1717347600@livewellbewellnvly.org
SUMMARY:Kaiser Permanente Women's Fitness Festival Race
DESCRIPTION:IT’S TIME TO CELEBRATE WOMEN’S FITNESSThe 2024 Kaiser Permanente Women’s Fitness Festival takes place on June 2\, 2024 on 9th Street\, between L Street and Capitol Mall. This is a one-of-a-kind all women’s event that includes medals and a beautiful race tee for 5K/10K finishers. Participants of the Princess ½-Mile Fun Run receive a princess tiara. After the event\, please join us for a breakfast and celebrate with your friends in the mimosa garden. Enjoy complimentary health screenings at the Kaiser Permanente Thrive Pavilion. Tell all the women in your life! \n\n\n                    \n                        \n                        \n                    \n\n        \n        Write a gratitude message for a coworker or something you are grateful for and hang it on your facility gratitude tree. Our team will share wellness and fitness resources to help you take care of your well-being and THRIVE in the workplace. Date: Wednesday\, 4/29/26 Location: Arden Annex\, Lobby Time: 12:00 – 1:30pm
URL:https://livewellbewellnvly.org/events/kaiser-permanente-womens-fitness-festival-race/
LOCATION:CA\, United States
ATTACH;FMTTYPE=image/jpeg:https://livewellbewellnvly.org/wp-content/uploads/2024/01/Women-Fitness-Festival.jpg
ORGANIZER;CN="live well be well":MAILTO:livewellbewell.nvly@kp.org
END:VEVENT
END:VCALENDAR